BEGIN:VCALENDAR
VERSION:2.0
PRODID:-//The Collective - ECPv6.15.20//NONSGML v1.0//EN
CALSCALE:GREGORIAN
METHOD:PUBLISH
X-ORIGINAL-URL:https://thecollectiveccbc.com
X-WR-CALDESC:Events for The Collective
REFRESH-INTERVAL;VALUE=DURATION:PT1H
X-Robots-Tag:noindex
X-PUBLISHED-TTL:PT1H
BEGIN:VTIMEZONE
TZID:America/New_York
BEGIN:DAYLIGHT
TZOFFSETFROM:-0500
TZOFFSETTO:-0400
TZNAME:EDT
DTSTART:20230312T070000
END:DAYLIGHT
BEGIN:STANDARD
TZOFFSETFROM:-0400
TZOFFSETTO:-0500
TZNAME:EST
DTSTART:20231105T060000
END:STANDARD
BEGIN:DAYLIGHT
TZOFFSETFROM:-0500
TZOFFSETTO:-0400
TZNAME:EDT
DTSTART:20240310T070000
END:DAYLIGHT
BEGIN:STANDARD
TZOFFSETFROM:-0400
TZOFFSETTO:-0500
TZNAME:EST
DTSTART:20241103T060000
END:STANDARD
BEGIN:DAYLIGHT
TZOFFSETFROM:-0500
TZOFFSETTO:-0400
TZNAME:EDT
DTSTART:20250309T070000
END:DAYLIGHT
BEGIN:STANDARD
TZOFFSETFROM:-0400
TZOFFSETTO:-0500
TZNAME:EST
DTSTART:20251102T060000
END:STANDARD
END:VTIMEZONE
BEGIN:VEVENT
DTSTART;TZID=America/New_York:20241207T090000
DTEND;TZID=America/New_York:20241207T150000
DTSTAMP:20260421T073939
CREATED:20241106T215548Z
LAST-MODIFIED:20241106T215653Z
UID:1368-1733562000-1733583600@thecollectiveccbc.com
SUMMARY:The Collective: Holiday Market
DESCRIPTION:Join Us for The Collective Holiday Market! \nGet into the holiday spirit at The Collective Holiday Market on Saturday\, December 7th from 9 AM to 3 PM at CCBC Owings Mills! This festive event will feature over 30 local artisans\, makers\, and small businesses offering unique holiday gifts\, winter goodies\, and handcrafted items perfect for everyone on your list. \nEnjoy a lively day filled with music\, a free photo booth\, hourly raffles\, kids’ activities\, maker workshops\, and more! Come out to support local entrepreneurs and discover one-of-a-kind finds while celebrating with our community. \nDon’t miss this opportunity to gather\, shop\, and be inspired!
URL:https://thecollectiveccbc.com/event/the-collective-holiday-market/
LOCATION:CCBC Owings Mills Extension Center\, 10300 Grand Central Avenue\, Floor 5\, Room 509\, Owings Mills\, MD\, 21117\, United States
ATTACH;FMTTYPE=image/png:https://thecollectiveccbc.com/wp-content/uploads/2024/11/16-9-Ratio-Holiday-Market-Ad_The-Collective.png
ORGANIZER;CN="The Collective":MAILTO:thecollectiveccbc@gmail.com
END:VEVENT
END:VCALENDAR